Workbook

Sheet 合计
A1: 南清河乡总计
A2: 序号 | B2: 村名 | C2: 户数 | D2: 已拆除房屋面积（㎡） | E2: 拆除房屋清运垃圾量（m³） | F2: 残垣断壁或围墙方量（m³） | G2: 残垣断壁或围墙清运垃圾量（m³） | H2: 建筑垃圾总方量（m³） | I2: 单价（元/m³） | J2: 总价（元）
A3: 1 | B3: 孤山 | C3: =孤山!C12 -> 9 | D3: =孤山!D12 -> 1070.2 | E3: =孤山!E12 -> 1016.69 | F3: =孤山!F12 -> 96.52 | G3: =孤山!G12 -> 147.67456 | H3: =孤山!H12 -> 1164.37 | I3: 20 | J3: =孤山!J12 -> 23288
A4: 2 | B4: 郭万井 | C4: =郭万井!C5 -> 2 | D4: =郭万井!D5 -> 228 | E4: =郭万井!E5 -> 216.6 | F4: =郭万井!F5 -> 0 | G4: =郭万井!G5 -> 0 | H4: =郭万井!H5 -> 216.6 | I4: 20 | J4: =郭万井!J5 -> 4332
A5: 3 | B5: 北壕村 | C5: =北壕村!C9 -> 4 | D5: =北壕村!D9 -> 377 | E5: =北壕村!E9 -> 358.15 | F5: =北壕村!F9 -> 0 | G5: =北壕村!G9 -> 0 | H5: =北壕村!H9 -> 358.15 | I5: 20 | J5: =北壕村!J9 -> 7163
A6: 4 | B6: 嘉应寺 | C6: =嘉应寺!C6 -> 3 | D6: =嘉应寺!D6 -> 482 | E6: =嘉应寺!E6 -> 457.9 | F6: =嘉应寺!F6 -> 0 | G6: =嘉应寺!G6 -> 0 | H6: =嘉应寺!H6 -> 457.9 | I6: 20 | J6: =嘉应寺!J6 -> 9158
A7: 5 | B7: 永丰村 | C7: =永丰村!C7 -> 4 | D7: =永丰村!D7 -> 709 | E7: =永丰村!E7 -> 673.55 | F7: =永丰村!F7 -> 0 | G7: =永丰村!G7 -> 0 | H7: =永丰村!H7 -> 673.55 | I7: 20 | J7: =永丰村!J7 -> 13471
A8: 6 | B8: 九龙关 | C8: =九龙关!C7 -> 1 | D8: =九龙关!D7 -> 140 | E8: =九龙关!E7 -> 133 | F8: =九龙关!F7 -> 0 | G8: =九龙关!G7 -> 0 | H8: =九龙关!H7 -> 133 | I8: 20 | J8: =九龙关!J7 -> 2660
A9: 7 | B9: 回车村 | C9: =回车村!C6 -> 1 | D9: =回车村!D6 -> 42 | E9: =回车村!E6 -> 39.9 | F9: =回车村!F6 -> 0 | G9: =回车村!G6 -> 0 | H9: =回车村!H6 -> 39.9 | I9: 20 | J9: =回车村!J6 -> 798
A10: 8 | B10: 冯家村 | C10: =冯家村!C8 -> 5 | D10: =冯家村!D8 -> 423 | E10: =冯家村!E8 -> 401.85 | F10: =冯家村!F8 -> 60 | G10: =冯家村!G8 -> 91.8 | H10: =冯家村!H8 -> 493.65 | I10: 20 | J10: =冯家村!J8 -> 9872
A11: 9 | B11: 武家村 | C11: =武家村!C8 -> 1 | D11: =武家村!D8 -> 130 | E11: =武家村!E8 -> 123.5 | F11: 0 | G11: 0 | H11: =武家村!H8 -> 123.5 | I11: 20 | J11: =武家村!J8 -> 2470
A12: 10 | B12: =赵堡村!A1 -> 赵堡村 | C12: =赵堡村!C12 -> 9 | D12: =赵堡村!D12 -> 1040 | E12: =赵堡村!E12 -> 988 | F12: 0 | G12: 0 | H12: =赵堡村!H12 -> 988 | I12: 20 | J12: =赵堡村!J12 -> 19759
A13: 合计： | B13: =A11 -> 9 | C13: =SUM(C3:C12) -> 39 | D13: =SUM(D3:D12) -> 4641.2 | E13: =D13*0.95 -> 4409.14 | F13: =SUM(F3:F12) -> 156.52 | G13: =F13*1.53 -> 239.4756 | H13: =E13+G13 -> 4648.6156 | J13: =SUM(J3:J12) -> 92971

Sheet 孤山
A1: 孤山
A2: 序号 | B2: 行政村 | C2: 姓名 | D2: 已拆除房屋面积（㎡） | E2: 拆除房屋清运垃圾量（m³） | F2: 残垣断壁或围墙方量（m³） | G2: 残垣断壁或围墙清运垃圾量（m³） | H2: 建筑垃圾总方量（m³） | I2: 单价（元/m³） | J2: 总价（元）
A3: 1 | B3: 孤山 | C3: 谷建武 | D3: =19*5+15*4 -> 155 | E3: =D3*0.95 -> 147.25 | F3: =19*3*0.24 -> 13.68 | G3: =ROUND(F3*1.53,2) -> 20.93 | H3: =ROUND(E3+G3,2) -> 168.18 | I3: 20 | J3: =ROUND(H3*I3,0) -> 3364
A4: 2 | B4: 孤山 | C4: 郭二波 | D4: =16*4.2+6*4*2 -> 115.2 | E4: =D4*0.95 -> 109.44 | F4: =16*3.2*0.24 -> 12.288 | G4: =ROUND(F4*1.53,2) -> 18.8 | H4: =ROUND(E4+G4,2) -> 128.24 | I4: 20 | J4: =ROUND(H4*I4,0) -> 2565
A5: 3 | B5: 孤山 | C5: 李爱录 | D5: =16*4+15*3*2 -> 154 | E5: =D5*0.95 -> 146.3 | F5: =16*3.1*0.24 -> 11.904 | G5: =F5*1.53 -> 18.21312 | H5: =ROUND(E5+G5,2) -> 164.51 | I5: 20 | J5: =ROUND(H5*I5,0) -> 3290
A6: 4 | B6: 孤山 | C6: 于永全 | D6: 67.5 | E6: =D6*0.95 -> 64.125 | G6: =F6*1.53 -> 0 | H6: =ROUND(E6+G6,2) -> 64.13 | I6: 20 | J6: =ROUND(H6*I6,0) -> 1283
A7: 5 | B7: 孤山 | C7: 于瑞强 | D7: 72 | E7: =D7*0.95 -> 68.4 | G7: =F7*1.53 -> 0 | H7: =ROUND(E7+G7,2) -> 68.4 | I7: 20 | J7: =ROUND(H7*I7,0) -> 1368
A8: 6 | B8: 孤山 | C8: 白国文 | D8: 140 | E8: =D8*0.95 -> 133 | F8: =18*3*0.24 -> 12.96 | G8: =F8*1.53 -> 19.8288 | H8: =ROUND(E8+G8,2) -> 152.83 | I8: 20 | J8: =ROUND(H8*I8,0) -> 3057
A9: 7 | B9: 孤山 | C9: 李书志 | D9: 136 | E9: =D9*0.95 -> 129.2 | F9: =16*3.2*0.24 -> 12.288 | G9: =F9*1.53 -> 18.80064 | H9: =ROUND(E9+G9,2) -> 148 | I9: 20 | J9: =ROUND(H9*I9,0) -> 2960
A10: 8 | B10: 孤山 | C10: 李进芳 | D10: 99 | E10: =D10*0.95 -> 94.05 | F10: =18*3*0.5 -> 27 | G10: =F10*1.53 -> 41.31 | H10: =ROUND(E10+G10,2) -> 135.36 | I10: 20 | J10: =ROUND(H10*I10,0) -> 2707
A11: 9 | B11: 孤山 | C11: 杨耀东 | D11: 131.5 | E11: =D11*0.95 -> 124.925 | F11: =4*3.2*0.5 -> 6.4 | G11: =F11*1.53 -> 9.792 | H11: =ROUND(E11+G11,2) -> 134.72 | I11: 20 | J11: =ROUND(H11*I11,0) -> 2694
A12: 合计： | C12: 9 | D12: =SUM(D3:D11) -> 1070.2 | E12: =SUM(E3:E11) -> 1016.69 | F12: =SUM(F3:F11) -> 96.52 | G12: =SUM(G3:G11) -> 147.67456 | H12: =SUM(H3:H11) -> 1164.37 | J12: =SUM(J3:J11) -> 23288

Sheet 郭万井
A1: 郭万井
A2: 序号 | B2: 行政村 | C2: 姓名 | D2: 已拆除房屋面积（㎡） | E2: 拆除房屋清运垃圾量（m³） | F2: 残垣断壁或围墙方量（m³） | G2: 残垣断壁或围墙清运垃圾量（m³） | H2: 建筑垃圾总方量（m³） | I2: 单价（元/m³） | J2: 总价（元）
A3: 1 | B3: 郭万井 | C3: 赵松 | D3: =12*5*2+4*3*3 -> 156 | E3: =ROUND(D3*0.95,2) -> 148.2 | H3: =ROUND(E3+G3,2) -> 148.2 | I3: 20 | J3: =ROUND(H3*I3,2) -> 2964
A4: 2 | B4: 郭万井 | C4: 郭建瑞 | D4: 72 | E4: =ROUND(D4*0.95,2) -> 68.4 | H4: =ROUND(E4+G4,2) -> 68.4 | I4: 20 | J4: =ROUND(H4*I4,2) -> 1368
A5: 合计： | C5: 2 | D5: =SUM(D3:D4) -> 228 | E5: =SUM(E3:E4) -> 216.6 | H5: =SUM(H3:H4) -> 216.6 | J5: =SUM(J3:J4) -> 4332

Sheet 北壕村
A1: 北壕村
A2: 序号 | B2: 行政村 | C2: 姓名 | D2: 已拆除房屋面积（㎡） | E2: 拆除房屋清运垃圾量（m³） | F2: 残垣断壁或围墙方量（m³） | G2: 残垣断壁或围墙清运垃圾量（m³） | H2: 建筑垃圾总方量（m³） | I2: 单价（元/m³） | J2: 总价（元）
A3: 1 | B3: 北壕村 | C3: 李增辰 | D3: =8*8+3*4+1.5*2 -> 79 | E3: =ROUND(D3*0.95,2) -> 75.05 | G3: =ROUND(F3*1.53,2) -> 0 | H3: =ROUND(E3+G3,2) -> 75.05 | I3: 20 | J3: =ROUND(H3*I3,0) -> 1501
A4: 2 | B4: 北壕村 | C4: 李习志 | D4: 108 | E4: =ROUND(D4*0.95,2) -> 102.6 | G4: =ROUND(F4*1.53,2) -> 0 | H4: =ROUND(E4+G4,2) -> 102.6 | I4: 20 | J4: =ROUND(H4*I4,0) -> 2052
A5: 3 | B5: 北壕村 | C5: 李新国 | D5: 80 | E5: =ROUND(D5*0.95,2) -> 76 | H5: =ROUND(E5+G5,2) -> 76 | I5: 20 | J5: =ROUND(H5*I5,0) -> 1520
A6: 4 | B6: 北壕村 | C6: 李祥芹 | D6: 110 | E6: =ROUND(D6*0.95,2) -> 104.5 | H6: =ROUND(E6+G6,2) -> 104.5 | I6: 20 | J6: =ROUND(H6*I6,0) -> 2090
A7: 5 | B7: 北壕村 | E7: =ROUND(D7*0.95,2) -> 0 | H7: =ROUND(E7+G7,2) -> 0 | I7: 20 | J7: =ROUND(H7*I7,0) -> 0
A8: 6 | B8: 北壕村 | E8: =ROUND(D8*0.95,2) -> 0 | H8: =ROUND(E8+G8,2) -> 0 | I8: 20 | J8: =ROUND(H8*I8,0) -> 0
A9: 合计： | C9: 4 | D9: =SUM(D3:D8) -> 377 | E9: =SUM(E3:E8) -> 358.15 | F9: =SUM(F3:F5) -> 0 | G9: =SUM(G3:G5) -> 0 | H9: =SUM(H3:H8) -> 358.15 | J9: =SUM(J3:J8) -> 7163

Sheet 嘉应寺
A1: 嘉应寺
A2: 序号 | B2: 行政村 | C2: 姓名 | D2: 已拆除房屋面积（㎡） | E2: 拆除房屋清运垃圾量（m³） | F2: 残垣断壁或围墙方量（m³） | G2: 残垣断壁或围墙清运垃圾量（m³） | H2: 建筑垃圾总方量（m³） | I2: 单价（元/m³） | J2: 总价（元）
A3: 1 | B3: 嘉应寺村 | C3: 王敏杰 | D3: 224 | E3: =ROUND(D3*0.95,2) -> 212.8 | G3: =ROUND(F3*1.53,2) -> 0 | H3: =ROUND(E3+G3,2) -> 212.8 | I3: 20 | J3: =ROUND(H3*I3,0) -> 4256
A4: 2 | B4: 嘉应寺村 | C4: 王晓辉 | D4: 110 | E4: =ROUND(D4*0.95,2) -> 104.5 | G4: =ROUND(F4*1.53,2) -> 0 | H4: =ROUND(E4+G4,2) -> 104.5 | I4: 20 | J4: =ROUND(H4*I4,0) -> 2090
A5: 3 | B5: 嘉应寺村 | C5: 王向涛 | D5: =16*7+12*3 -> 148 | E5: =ROUND(D5*0.95,2) -> 140.6 | G5: =ROUND(F5*1.53,2) -> 0 | H5: =ROUND(E5+G5,2) -> 140.6 | I5: 20 | J5: =ROUND(H5*I5,0) -> 2812
A6: 合计： | C6: 3 | D6: =SUM(D3:D5) -> 482 | E6: =SUM(E3:E5) -> 457.9 | F6: =SUM(F3:F5) -> 0 | G6: =SUM(G3:G5) -> 0 | H6: =SUM(H3:H5) -> 457.9 | J6: =SUM(J3:J5) -> 9158

Sheet 永丰村
A1: 永丰村
A2: 序号 | B2: 行政村 | C2: 姓名 | D2: 已拆除房屋面积（㎡） | E2: 拆除房屋清运垃圾量（m³） | F2: 残垣断壁或围墙方量（m³） | G2: 残垣断壁或围墙清运垃圾量（m³） | H2: 建筑垃圾总方量（m³） | I2: 单价（元/m³） | J2: 总价（元）
A3: 1 | B3: 永丰村 | C3: 周喜朝 | D3: 214 | E3: =ROUND(D3*0.95,2) -> 203.3 | G3: =ROUND(F3*1.53,2) -> 0 | H3: =ROUND(E3+G3,2) -> 203.3 | I3: 20 | J3: =ROUND(H3*I3,0) -> 4066
A4: 2 | B4: 永丰村 | C4: 周英进 | D4: 195 | E4: =ROUND(D4*0.95,2) -> 185.25 | G4: =ROUND(F4*1.53,2) -> 0 | H4: =ROUND(E4+G4,2) -> 185.25 | I4: 20 | J4: =ROUND(H4*I4,0) -> 3705
A5: 3 | B5: 永丰村 | C5: 周建瑞 | D5: =20*14.5-14*8.5 -> 171 | E5: =ROUND(D5*0.95,2) -> 162.45 | G5: =ROUND(F5*1.53,2) -> 0 | H5: =ROUND(E5+G5,2) -> 162.45 | I5: 20 | J5: =ROUND(H5*I5,0) -> 3249
A6: 4 | B6: 永丰村 | C6: 周英进 | D6: =17*15-14*9 -> 129 | E6: =ROUND(D6*0.95,2) -> 122.55 | G6: =ROUND(F6*1.53,2) -> 0 | H6: =ROUND(E6+G6,2) -> 122.55 | I6: 20 | J6: =ROUND(H6*I6,0) -> 2451
A7: 合计： | C7: 4 | D7: =SUM(D3:D6) -> 709 | E7: =SUM(E3:E6) -> 673.55 | F7: =SUM(F3:F6) -> 0 | G7: =SUM(G3:G6) -> 0 | H7: =SUM(H3:H6) -> 673.55 | J7: =SUM(J3:J6) -> 13471

Sheet 九龙关
A1: 九龙关
A2: 序号 | B2: 行政村 | C2: 姓名 | D2: 已拆除房屋面积（㎡） | E2: 拆除房屋清运垃圾量（m³） | F2: 残垣断壁或围墙方量（m³） | G2: 残垣断壁或围墙清运垃圾量（m³） | H2: 建筑垃圾总方量（m³） | I2: 单价（元/m³） | J2: 总价（元）
A3: 1 | B3: 九龙关村 | C3: 郝换娥 | D3: 140 | E3: =ROUND(D3*0.95,2) -> 133 | G3: =ROUND(F3*1.53,2) -> 0 | H3: =ROUND(E3+G3,2) -> 133 | I3: 20 | J3: =ROUND(H3*I3,0) -> 2660
A4: 2 | B4: 九龙关村 | E4: =ROUND(D4*0.95,2) -> 0 | G4: =ROUND(F4*1.53,2) -> 0 | H4: =ROUND(E4+G4,2) -> 0 | I4: 20 | J4: =ROUND(H4*I4,0) -> 0
A5: 3 | B5: 九龙关村 | E5: =ROUND(D5*0.95,2) -> 0 | G5: =ROUND(F5*1.53,2) -> 0 | H5: =ROUND(E5+G5,2) -> 0 | I5: 20 | J5: =ROUND(H5*I5,0) -> 0
A6: 4 | B6: 九龙关村 | E6: =ROUND(D6*0.95,2) -> 0 | G6: =ROUND(F6*1.53,2) -> 0 | H6: =ROUND(E6+G6,2) -> 0 | I6: 20 | J6: =ROUND(H6*I6,0) -> 0
A7: 合计： | C7: 1 | D7: =SUM(D3:D6) -> 140 | E7: =SUM(E3:E6) -> 133 | F7: =SUM(F3:F6) -> 0 | G7: =SUM(G3:G6) -> 0 | H7: =SUM(H3:H6) -> 133 | J7: =SUM(J3:J6) -> 2660

Sheet 回车村
A1: 回车村
A2: 序号 | B2: 行政村 | C2: 姓名 | D2: 已拆除房屋面积（㎡） | E2: 拆除房屋清运垃圾量（m³） | F2: 残垣断壁或围墙方量（m³） | G2: 残垣断壁或围墙清运垃圾量（m³） | H2: 建筑垃圾总方量（m³） | I2: 单价（元/m³） | J2: 总价（元）
A3: 1 | B3: 回车村 | C3: 范聚敏 | D3: 42 | E3: =ROUND(D3*0.95,2) -> 39.9 | G3: =ROUND(F3*1.53,2) -> 0 | H3: =ROUND(E3+G3,2) -> 39.9 | I3: 20 | J3: =ROUND(H3*I3,0) -> 798
A4: 2 | B4: 回车村 | E4: =ROUND(D4*0.95,2) -> 0 | G4: =ROUND(F4*1.53,2) -> 0 | H4: =ROUND(E4+G4,2) -> 0 | I4: 20 | J4: =ROUND(H4*I4,0) -> 0
A5: 3 | B5: 回车村 | E5: =ROUND(D5*0.95,2) -> 0 | G5: =ROUND(F5*1.53,2) -> 0 | H5: =ROUND(E5+G5,2) -> 0 | I5: 20 | J5: =ROUND(H5*I5,0) -> 0
A6: 合计： | C6: 1 | D6: =SUM(D3:D5) -> 42 | E6: =SUM(E3:E5) -> 39.9 | F6: =SUM(F3:F5) -> 0 | G6: =SUM(G3:G5) -> 0 | H6: =SUM(H3:H5) -> 39.9 | J6: =SUM(J3:J5) -> 798

Sheet 冯家村
A1: 冯家村
A2: 序号 | B2: 行政村 | C2: 姓名 | D2: 已拆除房屋面积（㎡） | E2: 拆除房屋清运垃圾量（m³） | F2: 残垣断壁或围墙方量（m³） | G2: 残垣断壁或围墙清运垃圾量（m³） | H2: 建筑垃圾总方量（m³） | I2: 单价（元/m³） | J2: 总价（元）
A3: 1 | B3: 冯家村 | C3: 王素堂 | D3: =16*4 -> 64 | E3: =ROUND(D3*0.95,2) -> 60.8 | H3: =ROUND(E3+G3,2) -> 60.8 | I3: 20 | J3: =ROUND(H3*I3,0) -> 1216
A4: 2 | B4: 冯家村 | C4: 刘增林 | D4: =15*4+11*4 -> 104 | E4: =ROUND(D4*0.95,2) -> 98.8 | F4: =22*2.5*0.24 -> 13.2 | G4: =F4*1.53 -> 20.196 | H4: =ROUND(E4+G4,2) -> 119 | I4: 20 | J4: =ROUND(H4*I4,0) -> 2380
A5: 3 | B5: 冯家村 | C5: 冯军民 | D5: =15*4+14*3 -> 102 | E5: =ROUND(D5*0.95,2) -> 96.9 | F5: =26*2.5*0.24 -> 15.6 | G5: =F5*1.53 -> 23.868 | H5: =ROUND(E5+G5,2) -> 120.77 | I5: 20 | J5: =ROUND(H5*I5,0) -> 2415
A6: 4 | B6: 冯家村 | C6: 冯考英 | D6: =15*4+11*3 -> 93 | E6: =ROUND(D6*0.95,2) -> 88.35 | F6: =23*2.5*0.24 -> 13.8 | G6: =F6*1.53 -> 21.114 | H6: =ROUND(E6+G6,2) -> 109.46 | I6: 20 | J6: =ROUND(H6*I6,0) -> 2189
A7: 5 | B7: 冯家村 | C7: 王俊艳 | D7: 60 | E7: =ROUND(D7*0.95,2) -> 57 | F7: =29*2.5*0.24 -> 17.4 | G7: =F7*1.53 -> 26.622 | H7: =ROUND(E7+G7,2) -> 83.62 | I7: 20 | J7: =ROUND(H7*I7,0) -> 1672
A8: 合计： | C8: 5 | D8: =SUM(D3:D7) -> 423 | E8: =SUM(E3:E7) -> 401.85 | F8: =SUM(F3:F7) -> 60 | G8: =SUM(G3:G7) -> 91.8 | H8: =SUM(H3:H7) -> 493.65 | J8: =SUM(J3:J7) -> 9872

Sheet 武家村
A1: 武家村
A2: 序号 | B2: 行政村 | C2: 姓名 | D2: 已拆除房屋面积（㎡） | E2: 拆除房屋清运垃圾量（m³） | F2: 残垣断壁或围墙方量（m³） | G2: 残垣断壁或围墙清运垃圾量（m³） | H2: 建筑垃圾总方量（m³） | I2: 单价（元/m³） | J2: 总价（元）
A3: 1 | B3: 武家村 | C3: 王焕季 | D3: 130 | E3: =ROUND(D3*0.95,2) -> 123.5 | H3: =ROUND(E3+G3,2) -> 123.5 | I3: 20 | J3: =ROUND(H3*I3,0) -> 2470
A4: 2 | B4: 武家村 | E4: =ROUND(D4*0.95,2) -> 0 | H4: =ROUND(E4+G4,2) -> 0 | I4: 20 | J4: =ROUND(H4*I4,0) -> 0
A5: 3 | B5: 武家村 | E5: =ROUND(D5*0.95,2) -> 0 | H5: =ROUND(E5+G5,2) -> 0 | I5: 20 | J5: =ROUND(H5*I5,0) -> 0
A6: 4 | B6: 武家村 | E6: =ROUND(D6*0.95,2) -> 0 | G6: =F6*1.53 -> 0 | H6: =ROUND(E6+G6,2) -> 0 | I6: 20 | J6: =ROUND(H6*I6,0) -> 0
A7: 5 | B7: 武家村 | E7: =ROUND(D7*0.95,2) -> 0 | G7: =F7*1.53 -> 0 | H7: =ROUND(E7+G7,2) -> 0 | I7: 20 | J7: =ROUND(H7*I7,0) -> 0
A8: 合计： | C8: 1 | D8: =SUM(D3:D7) -> 130 | E8: =SUM(E3:E7) -> 123.5 | F8: =SUM(F3:F7) -> 0 | G8: =SUM(G3:G7) -> 0 | H8: =SUM(H3:H7) -> 123.5 | J8: =SUM(J3:J7) -> 2470

Sheet 赵堡村
A1: 赵堡村
A2: 序号 | B2: 行政村 | C2: 姓名 | D2: 已拆除房屋面积（㎡） | E2: 拆除房屋清运垃圾量（m³） | F2: 残垣断壁或围墙方量（m³） | G2: 残垣断壁或围墙清运垃圾量（m³） | H2: 建筑垃圾总方量（m³） | I2: 单价（元/m³） | J2: 总价（元）
A3: 1 | B3: 赵堡村 | C3: 贾增春 | D3: =16*8.1 -> 129.6 | E3: =ROUND(D3*0.95,2) -> 123.12 | H3: =ROUND(E3+G3,2) -> 123.12 | I3: 20 | J3: =ROUND(H3*I3,0) -> 2462
A4: 2 | B4: 赵堡村 | C4: 王胜稳 | D4: =20*10.1 -> 202 | E4: =ROUND(D4*0.95,2) -> 191.9 | H4: =ROUND(E4+G4,2) -> 191.9 | I4: 20 | J4: =ROUND(H4*I4,0) -> 3838
A5: 3 | B5: 赵堡村 | C5: 魏增文 | D5: =16*8.8 -> 140.8 | E5: =ROUND(D5*0.95,2) -> 133.76 | H5: =ROUND(E5+G5,2) -> 133.76 | I5: 20 | J5: =ROUND(H5*I5,0) -> 2675
A6: 4 | B6: 赵堡村 | C6: 魏向军 | D6: =16*6.6 -> 105.6 | E6: =ROUND(D6*0.95,2) -> 100.32 | G6: =F6*1.53 -> 0 | H6: =ROUND(E6+G6,2) -> 100.32 | I6: 20 | J6: =ROUND(H6*I6,0) -> 2006
A7: 5 | B7: 赵堡村 | C7: 王建朝 | D7: =15*7.6 -> 114 | E7: =ROUND(D7*0.95,2) -> 108.3 | G7: =F7*1.53 -> 0 | H7: =ROUND(E7+G7,2) -> 108.3 | I7: 20 | J7: =ROUND(H7*I7,0) -> 2166
A8: 6 | B8: 赵堡村 | C8: 闫现军 | D8: =12*6.2 -> 74.4 | E8: =ROUND(D8*0.95,2) -> 70.68 | H8: =ROUND(E8+G8,2) -> 70.68 | I8: 20 | J8: =ROUND(H8*I8,0) -> 1414
A9: 7 | B9: 赵堡村 | C9: 闫满道 | D9: =18*7.2 -> 129.6 | E9: =ROUND(D9*0.95,2) -> 123.12 | H9: =ROUND(E9+G9,2) -> 123.12 | I9: 20 | J9: =ROUND(H9*I9,0) -> 2462
A10: 8 | B10: 赵堡村 | C10: 魏艳丽 | D10: =12*6 -> 72 | E10: =ROUND(D10*0.95,2) -> 68.4 | H10: =ROUND(E10+G10,2) -> 68.4 | I10: 20 | J10: =ROUND(H10*I10,0) -> 1368
A11: 9 | B11: 赵堡村 | C11: 闫双锤 | D11: =12*6 -> 72 | E11: =ROUND(D11*0.95,2) -> 68.4 | H11: =ROUND(E11+G11,2) -> 68.4 | I11: 20 | J11: =ROUND(H11*I11,0) -> 1368
A12: 合计： | C12: 9 | D12: =SUM(D3:D11) -> 1040 | E12: =SUM(E3:E11) -> 988 | F12: =SUM(F3:F7) -> 0 | G12: =SUM(G3:G7) -> 0 | H12: =SUM(H3:H11,0) -> 988 | J12: =SUM(J3:J11) -> 19759
