Workbook

Sheet 汇总
A1: 西阳泽镇总计
A2: 序号 | B2: 村名 | C2: 户数 | D2: 已拆除房屋面积（㎡） | E2: 拆除房屋清运垃圾量（m³） | F2: 残垣断壁或围墙方量（m³） | G2: 残垣断壁或围墙清运垃圾量（m³） | H2: 建筑垃圾总方量（m³） | I2: 单价 （元/m³） | J2: 总价（元）
A3: 1 | B3: =吕庄!A1 -> 吕庄 | C3: =吕庄!C5 -> 1 | D3: =吕庄!D5 -> 55 | E3: =吕庄!E5 -> 52.25 | F3: =吕庄!F5 -> 0 | G3: =F3*1.53 -> 0 | H3: =吕庄!H5 -> 52.25 | I3: 20 | J3: =吕庄!J5 -> 1045
A4: 2 | B4: =梁家湾!A1 -> 梁家湾 | C4: =梁家湾!C5 -> 2 | D4: =梁家湾!D5 -> 225.5 | E4: =梁家湾!E5 -> 214.23 | F4: =梁家湾!F5 -> 17.64 | G4: =梁家湾!G5 -> 26.99 | H4: =梁家湾!H5 -> 241.22 | I4: 20 | J4: =梁家湾!J5 -> 4824
A5: 3 | B5: =柳子沟!A1 -> 柳子沟 | C5: =柳子沟!C6 -> 2 | D5: =柳子沟!D6 -> 420 | E5: =柳子沟!E6 -> 399 | F5: =柳子沟!F6 -> 79.55 | G5: =柳子沟!G6 -> 121.7115 | H5: =柳子沟!H6 -> 520.71 | I5: 20 | J5: =柳子沟!J6 -> 10414
A6: 4 | B6: 武昌村 | C6: =武昌村!C5 -> 1 | D6: =武昌村!D5 -> 130.2 | E6: =武昌村!E5 -> 123.69 | F6: =武昌村!F5 -> 0 | G6: =F6*1.53 -> 0 | H6: =武昌村!H5 -> 123.69 | I6: 20 | J6: =武昌村!J5 -> 2474
A7: 5 | B7: 牛山沟 | C7: =牛山沟!C5 -> 2 | D7: =牛山沟!D5 -> 152.75 | E7: =牛山沟!E5 -> 145.11 | F7: =牛山沟!F5 -> 0 | G7: =F7*1.53 -> 0 | H7: =牛山沟!H5 -> 145.11 | I7: 20 | J7: =牛山沟!J5 -> 2902
A8: 6 | B8: =西郭家庄!A1 -> 西郭家庄 | C8: =西郭家庄!C6 -> 1 | D8: =西郭家庄!D6 -> 90 | E8: =西郭家庄!E6 -> 85.5 | F8: =西郭家庄!F6 -> 0 | G8: =西郭家庄!G6 -> 0 | H8: =西郭家庄!H6 -> 85.5 | I8: 20 | J8: =西郭家庄!J6 -> 1710
A9: 7 | B9: 位昌 | C9: =位昌!C10 -> 5 | D9: =位昌!D10 -> 2618.9 | E9: =位昌!E10 -> 2487.96 | F9: =位昌!F10 -> 0 | G9: =F9*1.53 -> 0 | H9: =位昌!H10 -> 2487.96 | I9: 20 | J9: =位昌!J10 -> 49760
A10: 8 | B10: 北平旺 | C10: =北平旺!C5 -> 2 | D10: =北平旺!D5 -> 196 | E10: =北平旺!E5 -> 186.2 | F10: =北平旺!F5 -> 0 | G10: =F10*1.53 -> 0 | H10: =北平旺!H5 -> 186.2 | I10: 20 | J10: =北平旺!J5 -> 3724
A11: 9 | B11: 南赵峪 | C11: =南赵峪!C7 -> 1 | D11: =南赵峪!D7 -> 138 | E11: =南赵峪!E7 -> 131.1 | F11: =南赵峪!F7 -> 0 | G11: 0 | H11: =南赵峪!H7 -> 131.1 | I11: 20 | J11: =南赵峪!J7 -> 2622
A12: 10 | B12: 严华寺 | C12: =严华寺!C5 -> 1 | D12: =严华寺!D5 -> 90 | E12: =严华寺!E5 -> 85.5 | F12: =严华寺!F5 -> 0 | G12: =严华寺!G5 -> 0 | H12: =严华寺!H5 -> 85.5 | I12: 20 | J12: =严华寺!J5 -> 1710
A13: 11 | B13: =任家洞!A1 -> 任家洞 | C13: =任家洞!C5 -> 2 | D13: =任家洞!D5 -> 197.5 | E13: =任家洞!E5 -> 187.63 | F13: =任家洞!F5 -> 0 | G13: =任家洞!G5 -> 0 | H13: =任家洞!H5 -> 187.63 | I13: 20 | J13: =任家洞!J5 -> 3753
A14: 12 | B14: =孟家庄!A1 -> 孟家庄村 | C14: =孟家庄!C7 -> 1 | D14: =孟家庄!D7 -> 210 | E14: =孟家庄!E7 -> 199.5 | F14: =孟家庄!F7 -> 15.12 | G14: =F14*1.53 -> 23.1336 | H14: =孟家庄!H7 -> 222.63 | I14: 20 | J14: =孟家庄!J7 -> 4453
A15: 13 | B15: =大河道!A1 -> 大河道村 | C15: =大河道!C7 -> 1 | D15: =大河道!D7 -> 180 | E15: =大河道!E7 -> 171 | F15: 0 | G15: 0 | H15: =大河道!H7 -> 171 | I15: 20 | J15: =大河道!J7 -> 3420
A16: 14 | B16: =南平旺村!A1 -> 南平旺村 | C16: =南平旺村!C7 -> 1 | D16: =南平旺村!D7 -> 152 | E16: =南平旺村!E7 -> 144.4 | F16: 0 | G16: 0 | H16: =南平旺村!H7 -> 144.4 | I16: 20 | J16: =南平旺村!J7 -> 2888
A17: 合计： | B17: 14 | C17: =SUM(C3:C16) -> 23 | D17: =SUM(D3:D16) -> 4855.85 | E17: =SUM(E3:E16) -> 4613.07 | F17: =SUM(F3:F16) -> 112.31 | G17: =SUM(G3:G16) -> 171.8351 | H17: =SUM(H3:H16) -> 4784.9 | J17: =SUM(J3:J16) -> 95699

Sheet 吕庄
A1: 吕庄
A2: 序号 | B2: 行政村 | C2: 姓名 | D2: 已拆除房屋面积（㎡） | E2: 拆除房屋清运垃圾量（m³） | F2: 残垣断壁或围墙方量（m³） | G2: 残垣断壁或围墙清运垃圾量（m³） | H2: 建筑垃圾总方量（m³） | I2: 单价（元/m³） | J2: 总价（元）
A3: 1 | B3: 吕庄 | C3: 刘海清 | D3: 55 | E3: =ROUND(D3*0.95,2) -> 52.25 | G3: =F3*1.53 -> 0 | H3: =ROUND(E3+G3,2) -> 52.25 | I3: 20 | J3: =ROUND(H3*I3,0) -> 1045
A4: 2 | B4: 吕庄 | E4: =ROUND(D4*0.95,2) -> 0 | G4: =F4*1.53 -> 0 | H4: =ROUND(E4+G4,2) -> 0 | I4: 20 | J4: =ROUND(H4*I4,0) -> 0
A5: 合计： | C5: 1 | D5: =SUM(D3:D4) -> 55 | E5: =SUM(E3:E4) -> 52.25 | F5: =SUM(F3:F4) -> 0 | G5: =SUM(G3:G4) -> 0 | H5: =SUM(H3:H4) -> 52.25 | J5: =SUM(J3:J4) -> 1045

Sheet 梁家湾
A1: 梁家湾
A2: 序号 | B2: 行政村 | C2: 姓名 | D2: 已拆除房屋面积（㎡） | E2: 拆除房屋清运垃圾量（m³） | F2: 残垣断壁或围墙方量（m³） | G2: 残垣断壁或围墙清运垃圾量（m³） | H2: 建筑垃圾总方量（m³） | I2: 单价（元/m³） | J2: 总价（元）
A3: 1 | B3: 梁家湾 | C3: 魏建雨 | D3: =15*6.5+6*3.5 -> 118.5 | E3: =ROUND(D3*0.95,2) -> 112.58 | F3: =14.5*3*0.24 -> 10.44 | G3: =ROUND(F3*1.53,2) -> 15.97 | H3: =ROUND(E3+G3,2) -> 128.55 | I3: 20 | J3: =ROUND(H3*I3,0) -> 2571
A4: 2 | B4: 梁家湾 | C4: 魏付力 | D4: 107 | E4: =ROUND(D4*0.95,2) -> 101.65 | F4: =10*3*0.24 -> 7.2 | G4: =ROUND(F4*1.53,2) -> 11.02 | H4: =ROUND(E4+G4,2) -> 112.67 | I4: 20 | J4: =ROUND(H4*I4,0) -> 2253
A5: 合计： | C5: 2 | D5: =SUM(D3:D4) -> 225.5 | E5: =SUM(E3:E4) -> 214.23 | F5: =SUM(F3:F4) -> 17.64 | G5: =SUM(G3:G4) -> 26.99 | H5: =SUM(H3:H4) -> 241.22 | J5: =SUM(J3:J4) -> 4824

Sheet 柳子沟
A1: 柳子沟
A2: 序号 | B2: 行政村 | C2: 姓名 | D2: 已拆除房屋面积（㎡） | E2: 拆除房屋清运垃圾量（m³） | F2: 残垣断壁或围墙方量（m³） | G2: 残垣断壁或围墙清运垃圾量（m³） | H2: 建筑垃圾总方量（m³） | I2: 单价（元/m³） | J2: 总价（元）
A3: 1 | B3: 柳子沟 | C3: 赵天泽 | D3: 336 | E3: =ROUND(D3*0.95,2) -> 319.2 | F3: =86*2.5*0.37 -> 79.55 | G3: =F3*1.53 -> 121.7115 | H3: =ROUND(E3+G3,2) -> 440.91 | I3: 20 | J3: =ROUND(H3*I3,0) -> 8818
A4: 2 | B4: 柳子沟 | C4: 魏小五 | D4: 84 | E4: =ROUND(D4*0.95,2) -> 79.8 | G4: =F4*1.53 -> 0 | H4: =ROUND(E4+G4,2) -> 79.8 | I4: 20 | J4: =ROUND(H4*I4,0) -> 1596
A5: 3 | B5: 柳子沟 | E5: =ROUND(D5*0.95,2) -> 0 | G5: =F5*1.53 -> 0 | H5: =ROUND(E5+G5,2) -> 0 | I5: 20 | J5: =ROUND(H5*I5,0) -> 0
A6: 合计： | C6: 2 | D6: =SUM(D3:D5) -> 420 | E6: =SUM(E3:E5) -> 399 | F6: =SUM(F3:F5) -> 79.55 | G6: =SUM(G3:G5) -> 121.7115 | H6: =SUM(H3:H5) -> 520.71 | J6: =SUM(J3:J5) -> 10414

Sheet 武昌村
A1: 武昌村
A2: 序号 | B2: 行政村 | C2: 姓名 | D2: 已拆除房屋面积（㎡） | E2: 拆除房屋清运垃圾量（m³） | F2: 残垣断壁或围墙方量（m³） | G2: 残垣断壁或围墙清运垃圾量（m³） | H2: 建筑垃圾总方量（m³） | I2: 单价（元/m³） | J2: 总价（元）
A3: 1 | B3: 武昌村 | C3: 赵立乾 | D3: =15.5*8.4 -> 130.2 | E3: =ROUND(D3*0.95,2) -> 123.69 | G3: =F3*1.53 -> 0 | H3: =E3+G3 -> 123.69 | I3: 20 | J3: =ROUND(H3*I3,0) -> 2474
A4: 2 | B4: 武昌村 | E4: =ROUND(D4*0.95,2) -> 0 | F4: 0 | G4: =F4*1.53 -> 0 | H4: =E4+G4 -> 0 | I4: 20 | J4: =ROUND(H4*I4,0) -> 0
A5: 合计： | C5: 1 | D5: =SUM(D3:D4) -> 130.2 | E5: =SUM(E3:E4) -> 123.69 | F5: =SUM(F3:F4) -> 0 | G5: =SUM(G3:G4) -> 0 | H5: =SUM(H3:H4) -> 123.69 | J5: =SUM(J3:J4) -> 2474

Sheet 牛山沟
A1: 牛山沟
A2: 序号 | B2: 行政村 | C2: 姓名 | D2: 已拆除房屋面积（㎡） | E2: 拆除房屋清运垃圾量（m³） | F2: 残垣断壁或围墙方量（m³） | G2: 残垣断壁或围墙清运垃圾量（m³） | H2: 建筑垃圾总方量（m³） | I2: 单价（元/m³） | J2: 总价（元）
A3: 1 | B3: 牛山沟 | C3: 崔建新 | D3: 152.75 | E3: =ROUND(D3*0.95,2) -> 145.11 | G3: =F3*1.53 -> 0 | H3: =ROUND(E3+G3,2) -> 145.11 | I3: 20 | J3: =ROUND(H3*I3,0) -> 2902
A4: 2 | B4: 牛山沟 | D4: 0 | E4: =ROUND(D4*0.95,2) -> 0 | F4: 0 | G4: =F4*1.53 -> 0 | H4: =ROUND(E4+G4,2) -> 0 | I4: 20 | J4: =ROUND(H4*I4,0) -> 0
A5: 合计： | C5: 2 | D5: =SUM(D3:D4) -> 152.75 | E5: =SUM(E3:E4) -> 145.11 | F5: =SUM(F3:F4) -> 0 | G5: =SUM(G3:G4) -> 0 | H5: =SUM(H3:H4) -> 145.11 | J5: =SUM(J3:J4) -> 2902

Sheet 西郭家庄
A1: 西郭家庄
A2: 序号 | B2: 行政村 | C2: 姓名 | D2: 已拆除房屋面积（㎡） | E2: 拆除房屋清运垃圾量（m³） | F2: 残垣断壁或围墙方量（m³） | G2: 残垣断壁或围墙清运垃圾量（m³） | H2: 建筑垃圾总方量（元） | I2: 单价（元/m³） | J2: 总价（元）
A3: 1 | B3: 西郭家庄 | C3: 郭绪文 | D3: 90 | E3: =ROUND(D3*0.95,2) -> 85.5 | G3: =F3*1.53 -> 0 | H3: =ROUND(E3+G3,2) -> 85.5 | I3: 20 | J3: =ROUND(H3*I3,0) -> 1710
A4: 2 | B4: 西郭家庄 | E4: =ROUND(D4*0.95,2) -> 0 | G4: =F4*1.53 -> 0 | H4: =ROUND(E4+G4,2) -> 0 | I4: 20 | J4: =ROUND(H4*I4,0) -> 0
A5: 3 | B5: 西郭家庄 | E5: =ROUND(D5*0.95,2) -> 0 | G5: =F5*1.53 -> 0 | H5: =ROUND(E5+G5,2) -> 0 | I5: 20 | J5: =ROUND(H5*I5,0) -> 0
A6: 合计： | C6: 1 | D6: =SUM(D3:D5) -> 90 | E6: =SUM(E3:E5) -> 85.5 | F6: =SUM(F3:F5) -> 0 | G6: =SUM(G3:G5) -> 0 | H6: =SUM(H3:H5) -> 85.5 | J6: =SUM(J3:J5) -> 1710

Sheet 位昌
A1: 位昌
A2: 序号 | B2: 行政村 | C2: 姓名 | D2: 已拆除房屋面积（㎡） | E2: 拆除房屋清运垃圾量（m³） | F2: 残垣断壁或围墙方量（m³） | G2: 残垣断壁或围墙清运垃圾量（m³） | H2: 建筑垃圾总方量（m³） | I2: 单价（元/m³） | J2: 总价（元）
A3: 1 | B3: 位昌村 | C3: 朱贵州 | D3: 91 | E3: =ROUND(D3*0.95,2) -> 86.45 | G3: =F3*1.53 -> 0 | H3: =ROUND(E3+G3,2) -> 86.45 | I3: 20 | J3: =ROUND(H3*I3,0) -> 1729
A4: 2 | B4: 位昌村 | C4: 朱立霞 | D4: =221.4 -> 221.4 | E4: =ROUND(D4*0.95,2) -> 210.33 | G4: =F4*1.53 -> 0 | H4: =ROUND(E4+G4,2) -> 210.33 | I4: 20 | J4: =ROUND(H4*I4,0) -> 4207
A5: 3 | B5: 位昌村 | C5: 朱利民 | D5: 96 | E5: =ROUND(D5*0.95,2) -> 91.2 | G5: =F5*1.53 -> 0 | H5: =ROUND(E5+G5,2) -> 91.2 | I5: 20 | J5: =ROUND(H5*I5,0) -> 1824
A6: 4 | B6: 位昌村 | C6: 朱凯 | D6: =11*4+10*3+14.5*4+9.5*3 -> 160.5 | E6: =ROUND(D6*0.95,2) -> 152.48 | G6: =F6*1.53 -> 0 | H6: =ROUND(E6+G6,2) -> 152.48 | I6: 20 | J6: =ROUND(H6*I6,0) -> 3050
A7: 5 | B7: 位昌村 | C7: 冯彦芳 | D7: 2050 | E7: =ROUND(D7*0.95,2) -> 1947.5 | G7: =F7*1.53 -> 0 | H7: =ROUND(E7+G7,2) -> 1947.5 | I7: 20 | J7: =ROUND(H7*I7,0) -> 38950
A8: 6 | B8: 位昌村 | E8: =ROUND(D8*0.95,2) -> 0 | G8: =F8*1.53 -> 0 | H8: =ROUND(E8+G8,2) -> 0 | I8: 20 | J8: =ROUND(H8*I8,0) -> 0
A9: 7 | B9: 位昌村 | E9: =ROUND(D9*0.95,2) -> 0 | G9: =F9*1.53 -> 0 | H9: =ROUND(E9+G9,2) -> 0 | I9: 20 | J9: =ROUND(H9*I9,0) -> 0
A10: 合计： | C10: 5 | D10: =SUM(D3:D9) -> 2618.9 | E10: =SUM(E3:E9) -> 2487.96 | F10: =SUM(F3:F6) -> 0 | G10: =SUM(G3:G6) -> 0 | H10: =SUM(H3:H9) -> 2487.96 | J10: =SUM(J3:J9) -> 49760

Sheet 北平旺
A1: 北平旺
A2: 序号 | B2: 行政村 | C2: 姓名 | D2: 已拆除房屋面积（㎡） | E2: 拆除房屋清运垃圾量（m³） | F2: 残垣断壁或围墙方量（m³） | G2: 残垣断壁或围墙清运垃圾量（m³） | H2: 建筑垃圾总方量（m³） | I2: 单价（元/m³） | J2: 总价（元）
A3: 1 | B3: 北平旺村 | C3: 宫建民 | D3: 52 | E3: =ROUND(D3*0.95,2) -> 49.4 | F3: 0 | G3: =F3*1.53 -> 0 | H3: =ROUND(E3+G3,2) -> 49.4 | I3: 20 | J3: =ROUND(H3*I3,0) -> 988
A4: 2 | B4: 北平旺村 | C4: 韩志峰 | D4: 144 | E4: =ROUND(D4*0.95,2) -> 136.8 | G4: =F4*1.53 -> 0 | H4: =ROUND(E4+G4,2) -> 136.8 | I4: 20 | J4: =ROUND(H4*I4,0) -> 2736
A5: 合计： | C5: 2 | D5: =SUM(D3:D4) -> 196 | E5: =SUM(E3:E4) -> 186.2 | F5: =SUM(F3:F4) -> 0 | G5: =SUM(G3:G4) -> 0 | H5: =SUM(H3:H4) -> 186.2 | J5: =SUM(J3:J4) -> 3724

Sheet 南赵峪
A1: 南赵峪
A2: 序号 | B2: 行政村 | C2: 姓名 | D2: 已拆除房屋面积（㎡） | E2: 拆除房屋清运垃圾量（m³） | F2: 残垣断壁或围墙方量（m³） | G2: 残垣断壁或围墙清运垃圾量（m³） | H2: 建筑垃圾总方量（m³） | I2: 单价（元/m³） | J2: 总价（元）
A3: 1 | B3: 南赵峪村 | C3: 安吉贵 | D3: 138 | E3: =ROUND(D3*0.95,2) -> 131.1 | G3: =F3*1.53 -> 0 | H3: =ROUND(E3+G3,2) -> 131.1 | I3: 20 | J3: =ROUND(H3*I3,0) -> 2622
A4: 2 | B4: 南赵峪村 | E4: =ROUND(D4*0.95,2) -> 0 | G4: =F4*1.53 -> 0 | H4: =ROUND(E4+G4,2) -> 0 | I4: 20 | J4: =ROUND(H4*I4,0) -> 0
A5: 3 | B5: 南赵峪村 | E5: =ROUND(D5*0.95,2) -> 0 | G5: =F5*1.53 -> 0 | H5: =ROUND(E5+G5,2) -> 0 | I5: 20 | J5: =ROUND(H5*I5,0) -> 0
A6: 4 | B6: 南赵峪村 | E6: =ROUND(D6*0.95,2) -> 0 | G6: =F6*1.53 -> 0 | H6: =ROUND(E6+G6,2) -> 0 | I6: 20 | J6: =ROUND(H6*I6,0) -> 0
A7: 合计： | C7: 1 | D7: =SUM(D3:D6) -> 138 | E7: =SUM(E3:E6) -> 131.1 | F7: =SUM(F3:F4) -> 0 | G7: =SUM(G3:G4) -> 0 | H7: =SUM(H3:H6) -> 131.1 | J7: =SUM(J3:J6) -> 2622

Sheet 严华寺
A1: 严华寺村
A2: 序号 | B2: 行政村 | C2: 姓名 | D2: 已拆除房屋面积（㎡） | E2: 拆除房屋清运垃圾量（m³） | F2: 残垣断壁或围墙方量（m³） | G2: 残垣断壁或围墙清运垃圾量（m³） | H2: 建筑垃圾总方量（m³） | I2: 单价（元/m³） | J2: 总价（元）
A3: 1 | B3: 严华寺村 | C3: 吕进国 | D3: 90 | E3: =ROUND(D3*0.95,2) -> 85.5 | G3: =F3*1.53 -> 0 | H3: =ROUND(E3+G3,2) -> 85.5 | I3: 20 | J3: =ROUND(H3*I3,0) -> 1710
A4: 2 | B4: 严华寺村 | E4: =ROUND(D4*0.95,2) -> 0 | G4: =F4*1.53 -> 0 | H4: =ROUND(E4+G4,2) -> 0 | I4: 20 | J4: =ROUND(H4*I4,0) -> 0
A5: 合计： | C5: 1 | D5: =SUM(D3:D4) -> 90 | E5: =SUM(E3:E4) -> 85.5 | F5: =SUM(F3:F4) -> 0 | G5: =SUM(G3:G4) -> 0 | H5: =SUM(H3:H4) -> 85.5 | J5: =SUM(J3:J4) -> 1710

Sheet 任家洞
A1: 任家洞
A2: 序号 | B2: 行政村 | C2: 姓名 | D2: 已拆除房屋面积（㎡） | E2: 拆除房屋清运垃圾量（m³） | F2: 残垣断壁或围墙方量（m³） | G2: 残垣断壁或围墙清运垃圾量（m³） | H2: 建筑垃圾总方量（m³） | I2: 单价（元/m³） | J2: 总价（元）
A3: 1 | B3: 任家洞村 | C3: 安京然 | D3: 126 | E3: =ROUND(D3*0.95,2) -> 119.7 | G3: =F3*1.53 -> 0 | H3: =ROUND(E3+G3,2) -> 119.7 | I3: 20 | J3: =ROUND(H3*I3,0) -> 2394
A4: 2 | B4: 任家洞村 | C4: 张俊英 | D4: 71.5 | E4: =ROUND(D4*0.95,2) -> 67.93 | G4: =F4*1.53 -> 0 | H4: =ROUND(E4+G4,2) -> 67.93 | I4: 20 | J4: =ROUND(H4*I4,0) -> 1359
A5: 合计： | C5: 2 | D5: =SUM(D3:D4) -> 197.5 | E5: =SUM(E3:E4) -> 187.63 | F5: =SUM(F3:F4) -> 0 | G5: =SUM(G3:G4) -> 0 | H5: =SUM(H3:H4) -> 187.63 | J5: =SUM(J3:J4) -> 3753

Sheet 孟家庄
A1: 孟家庄村
A2: 序号 | B2: 行政村 | C2: 姓名 | D2: 已拆除房屋面积（㎡） | E2: 拆除房屋清运垃圾量（m³） | F2: 残垣断壁或围墙方量（m³） | G2: 残垣断壁或围墙清运垃圾量（m³） | H2: 建筑垃圾总方量（m³） | I2: 单价（元/m³） | J2: 总价（元）
A3: 1 | B3: 孟家庄村 | C3: 马瑞朋 | D3: =21*10 -> 210 | E3: =ROUND(D3*0.95,2) -> 199.5 | F3: =21*3*0.24 -> 15.12 | G3: =F3*1.53 -> 23.1336 | H3: =ROUND(E3+G3,2) -> 222.63 | I3: 20 | J3: =ROUND(H3*I3,0) -> 4453
A4: 3 | B4: 孟家庄村 | E4: =ROUND(D4*0.95,2) -> 0 | G4: =F4*1.53 -> 0 | H4: =ROUND(E4+G4,2) -> 0 | I4: 20 | J4: =ROUND(H4*I4,2) -> 0
A5: 4 | B5: 孟家庄村 | E5: =ROUND(D5*0.95,2) -> 0 | G5: =F5*1.53 -> 0 | H5: =ROUND(E5+G5,2) -> 0 | I5: 20 | J5: =ROUND(H5*I5,2) -> 0
A6: 6 | B6: 孟家庄村 | E6: =ROUND(D6*0.95,2) -> 0 | G6: =F6*1.53 -> 0 | H6: =ROUND(E6+G6,2) -> 0 | I6: 20 | J6: =ROUND(H6*I6,2) -> 0
A7: 合计： | C7: 1 | D7: =SUM(D3:D6) -> 210 | E7: =SUM(E3:E6) -> 199.5 | F7: =SUM(F3:F6) -> 15.12 | G7: =SUM(G3:G6) -> 23.1336 | H7: =SUM(H3:H6) -> 222.63 | J7: =SUM(J3:J6) -> 4453

Sheet 大河道
A1: 大河道村
A2: 序号 | B2: 行政村 | C2: 姓名 | D2: 已拆除房屋面积（㎡） | E2: 拆除房屋清运垃圾量（m³） | F2: 残垣断壁或围墙方量（m³） | G2: 残垣断壁或围墙清运垃圾量（m³） | H2: 建筑垃圾总方量（m³） | I2: 单价（元/m³） | J2: 总价（元）
A3: 1 | B3: 大河道村 | C3: 连海英 | D3: =60+60+36+24 -> 180 | E3: =ROUND(D3*0.95,2) -> 171 | G3: =F3*1.53 -> 0 | H3: =ROUND(E3+G3,2) -> 171 | I3: 20 | J3: =ROUND(H3*I3,2) -> 3420
A4: 3 | B4: 大河道村 | E4: =ROUND(D4*0.95,2) -> 0 | G4: =F4*1.53 -> 0 | H4: =ROUND(E4+G4,2) -> 0 | I4: 20 | J4: =ROUND(H4*I4,2) -> 0
A5: 4 | B5: 大河道村 | E5: =ROUND(D5*0.95,2) -> 0 | G5: =F5*1.53 -> 0 | H5: =ROUND(E5+G5,2) -> 0 | I5: 20 | J5: =ROUND(H5*I5,2) -> 0
A6: 6 | B6: 大河道村 | E6: =ROUND(D6*0.95,2) -> 0 | G6: =F6*1.53 -> 0 | H6: =ROUND(E6+G6,2) -> 0 | I6: 20 | J6: =ROUND(H6*I6,2) -> 0
A7: 合计： | C7: 1 | D7: =SUM(D3:D6) -> 180 | E7: =SUM(E3:E6) -> 171 | F7: =SUM(F3:F6) -> 0 | G7: =SUM(G3:G6) -> 0 | H7: =SUM(H3:H6) -> 171 | J7: =SUM(J3:J6) -> 3420

Sheet 南平旺村
A1: 南平旺村
A2: 序号 | B2: 行政村 | C2: 姓名 | D2: 已拆除房屋面积（㎡） | E2: 拆除房屋清运垃圾量（m³） | F2: 残垣断壁或围墙方量（m³） | G2: 残垣断壁或围墙清运垃圾量（m³） | H2: 建筑垃圾总方量（m³） | I2: 单价（元/m³） | J2: 总价（元）
A3: 1 | B3: 南平旺村 | C3: 武国良 | D3: =120+32 -> 152 | E3: =ROUND(D3*0.95,2) -> 144.4 | G3: =F3*1.53 -> 0 | H3: =ROUND(E3+G3,2) -> 144.4 | I3: 20 | J3: =ROUND(H3*I3,2) -> 2888
A4: 3 | B4: 南平旺村 | E4: =ROUND(D4*0.95,2) -> 0 | G4: =F4*1.53 -> 0 | H4: =ROUND(E4+G4,2) -> 0 | I4: 20 | J4: =ROUND(H4*I4,2) -> 0
A5: 4 | B5: 南平旺村 | E5: =ROUND(D5*0.95,2) -> 0 | G5: =F5*1.53 -> 0 | H5: =ROUND(E5+G5,2) -> 0 | I5: 20 | J5: =ROUND(H5*I5,2) -> 0
A6: 6 | B6: 南平旺村 | E6: =ROUND(D6*0.95,2) -> 0 | G6: =F6*1.53 -> 0 | H6: =ROUND(E6+G6,2) -> 0 | I6: 20 | J6: =ROUND(H6*I6,2) -> 0
A7: 合计： | C7: 1 | D7: =SUM(D3:D6) -> 152 | E7: =SUM(E3:E6) -> 144.4 | F7: =SUM(F3:F6) -> 0 | G7: =SUM(G3:G6) -> 0 | H7: =SUM(H3:H6) -> 144.4 | J7: =SUM(J3:J6) -> 2888
